BEGIN:VCALENDAR
VERSION:2.0
PRODID:icalendar-ruby
CALSCALE:GREGORIAN
BEGIN:VEVENT
DTSTAMP:20210119T160002Z
UID:f3b20ad1-12c6-47af-8346-b30b89aa5025
DTSTART;VALUE=DATE:20201015
DESCRIPTION:Property ID# 488054\, Locatoin: Bayleys Offices unless sold pri
 or\, Time: 4:00PM
SUMMARY:Auction for 26 Young Road
END:VEVENT
END:VCALENDAR
