BEGIN:VCALENDAR
VERSION:2.0
PRODID:icalendar-ruby
CALSCALE:GREGORIAN
BEGIN:VEVENT
DTSTAMP:20210119T160722Z
UID:4b20762c-5bc2-4228-b2de-ee2abfa57616
DTSTART;VALUE=DATE:20210217
DESCRIPTION:Property ID# 498226\, Time: 4:00PM
SUMMARY:Auction for 69A McCoy Road
END:VEVENT
END:VCALENDAR
