BEGIN:VCALENDAR
VERSION:2.0
PRODID:icalendar-ruby
CALSCALE:GREGORIAN
BEGIN:VEVENT
DTSTAMP:20210119T155958Z
UID:0b68389b-f4b3-4505-b33b-8f14d2f316c3
DTSTART;TZID=Pacific/Auckland:20210123T110000
DTEND;TZID=Pacific/Auckland:20210123T120000
DESCRIPTION:Property ID# 482220
SUMMARY:Openhome for 28 Arawa Avenue
END:VEVENT
END:VCALENDAR
