BEGIN:VCALENDAR
VERSION:2.0
PRODID:icalendar-ruby
CALSCALE:GREGORIAN
BEGIN:VEVENT
DTSTAMP:20210119T155938Z
UID:d8ad7d05-37de-49a6-8093-1e5800014cc6
DTSTART;TZID=Pacific/Auckland:20210124T120000
DTEND;TZID=Pacific/Auckland:20210124T124500
DESCRIPTION:Property ID# 499523
SUMMARY:Openhome for 15 Penelope Place
END:VEVENT
END:VCALENDAR
