BEGIN:VCALENDAR
VERSION:2.0
PRODID:icalendar-ruby
CALSCALE:GREGORIAN
BEGIN:VEVENT
DTSTAMP:20260420T063613Z
UID:e27e8bf7-7940-4a4a-ace1-66eb297ed2df
DTSTART;VALUE=DATE:20200820
DESCRIPTION:Property ID# 486048\, Locatoin: Harcourts Auction Room\, 1 Thir
 d Avenue\, Tauranga\, Time: 1:00PM
SUMMARY:Auction for 
END:VEVENT
END:VCALENDAR
