BEGIN:VCALENDAR
VERSION:2.0
PRODID:icalendar-ruby
CALSCALE:GREGORIAN
BEGIN:VEVENT
DTSTAMP:20260420T064232Z
UID:256a37db-a857-4da2-ae8a-4f66b523a4ca
DTSTART;VALUE=DATE:20201222
DESCRIPTION:Property ID# 497400\, Locatoin: Harcourts\, 1 Third Avenue\, Ta
 udranga\, Time: 1:30PM
SUMMARY:Auction for 
END:VEVENT
END:VCALENDAR
