BEGIN:VCALENDAR
VERSION:2.0
PRODID:icalendar-ruby
CALSCALE:GREGORIAN
BEGIN:VEVENT
DTSTAMP:20260420T063608Z
UID:7e439ca9-c6d8-4a7d-9db0-c61c939a31df
DTSTART;VALUE=DATE:20210331
DESCRIPTION:Property ID# 504372\, Locatoin: Harcourts\, 1 Third Avenue\, Ta
 uranga\, Time: 1:30PM
SUMMARY:Auction for 
END:VEVENT
END:VCALENDAR
