BEGIN:VCALENDAR
VERSION:2.0
PRODID:icalendar-ruby
CALSCALE:GREGORIAN
BEGIN:VEVENT
DTSTAMP:20260420T063506Z
UID:68c9ffeb-0367-4622-869a-3c988bb19565
DTSTART;VALUE=DATE:20210429
DESCRIPTION:Property ID# 507210\, Locatoin: Harcourts\, 1 Third Avenue\, Ta
 uranga\, Time: 2:30PM
SUMMARY:Auction for 
END:VEVENT
END:VCALENDAR
