BEGIN:VCALENDAR
VERSION:2.0
PRODID:icalendar-ruby
CALSCALE:GREGORIAN
BEGIN:VEVENT
DTSTAMP:20260420T063833Z
UID:bff33bd0-619a-4b40-8ddb-688c1375ce33
DTSTART;VALUE=DATE:20210813
DESCRIPTION:Property ID# 515076\, Locatoin: Harcourts\, 1 Third Avenue\, Ta
 uranga\, Time: 4:00PM
SUMMARY:Auction for 
END:VEVENT
END:VCALENDAR
