BEGIN:VCALENDAR
VERSION:2.0
PRODID:icalendar-ruby
CALSCALE:GREGORIAN
BEGIN:VEVENT
DTSTAMP:20260420T064134Z
UID:1562c39a-db07-421d-a96b-8b0e41a954d1
DTSTART;VALUE=DATE:20211028
DESCRIPTION:Property ID# 518800\, Locatoin: Harcourts\, 1 Third Avenue\, Ta
 uranga\, Time: 12:00PM
SUMMARY:Auction for 
END:VEVENT
END:VCALENDAR
