BEGIN:VCALENDAR
VERSION:2.0
PRODID:icalendar-ruby
CALSCALE:GREGORIAN
BEGIN:VEVENT
DTSTAMP:20260420T102016Z
UID:56c7426f-8fc3-4594-80d3-48409a582753
DTSTART;VALUE=DATE:20250814
DESCRIPTION:Property ID# 595322\, Locatoin: Onsite - 10 Elena Place\, Welco
 me Bay\, Time: 11:00AM
SUMMARY:Auction for 
END:VEVENT
END:VCALENDAR
