BEGIN:VCALENDAR
VERSION:2.0
PRODID:icalendar-ruby
CALSCALE:GREGORIAN
BEGIN:VEVENT
DTSTAMP:20260423T145239Z
UID:c87d316e-25be-42a9-b18e-bfa971c17a24
DTSTART;VALUE=DATE:20260513
DESCRIPTION:Property ID# 607189\, Locatoin: Harcourts Auction Room\, 1 Thir
 d Avenue\, Tauranga\, Time: 11:30AM
SUMMARY:Auction for 25 Raymond Avenue
END:VEVENT
END:VCALENDAR
