BEGIN:VCALENDAR
VERSION:2.0
PRODID:icalendar-ruby
CALSCALE:GREGORIAN
BEGIN:VEVENT
DTSTAMP:20260422T180227Z
UID:c9406327-6db6-4b62-ad3c-8f596a3a486d
DTSTART;TZID=Pacific/Auckland:20260426T113000
DTEND;TZID=Pacific/Auckland:20260426T120000
DESCRIPTION:Property ID# 606934
SUMMARY:Openhome for 41 College Road
END:VEVENT
END:VCALENDAR
