BEGIN:VCALENDAR
VERSION:2.0
PRODID:icalendar-ruby
CALSCALE:GREGORIAN
BEGIN:VEVENT
DTSTAMP:20260422T175947Z
UID:fbf36e83-001e-4928-868f-b110ce082072
DTSTART;TZID=Pacific/Auckland:20260426T124500
DTEND;TZID=Pacific/Auckland:20260426T131500
DESCRIPTION:Property ID# 584081
SUMMARY:Openhome for 13 Fraser Street
END:VEVENT
END:VCALENDAR
