BEGIN:VCALENDAR
VERSION:2.0
PRODID:icalendar-ruby
CALSCALE:GREGORIAN
BEGIN:VEVENT
DTSTAMP:20260422T175942Z
UID:9aa52f15-38af-4341-a24d-5eba6e45570a
DTSTART;TZID=Pacific/Auckland:20260426T133000
DTEND;TZID=Pacific/Auckland:20260426T140000
DESCRIPTION:Property ID# 606291
SUMMARY:Openhome for 147 James Street
END:VEVENT
END:VCALENDAR
