BEGIN:VCALENDAR
VERSION:2.0
PRODID:icalendar-ruby
CALSCALE:GREGORIAN
BEGIN:VEVENT
DTSTAMP:20260422T182323Z
UID:aef73604-1e0f-4352-a148-5f10e048d9d1
DTSTART;TZID=Pacific/Auckland:20260426T143000
DTEND;TZID=Pacific/Auckland:20260426T150000
DESCRIPTION:Property ID# 604946
SUMMARY:Openhome for 1/160 King Street
END:VEVENT
END:VCALENDAR
