BEGIN:VCALENDAR
VERSION:2.0
PRODID:icalendar-ruby
CALSCALE:GREGORIAN
BEGIN:VEVENT
DTSTAMP:20260422T143703Z
UID:c8c21e73-1f05-4c1e-ab29-0cab8dc75a16
DTSTART;TZID=Pacific/Auckland:20260426T124500
DTEND;TZID=Pacific/Auckland:20260426T133000
DESCRIPTION:Property ID# 604269
SUMMARY:Openhome for 34 Ballance Street
END:VEVENT
END:VCALENDAR
